BEGIN:VCALENDAR
VERSION:2.0
PRODID:-//Penn Stone - ECPv6.15.20//NONSGML v1.0//EN
CALSCALE:GREGORIAN
METHOD:PUBLISH
X-WR-CALNAME:Penn Stone
X-ORIGINAL-URL:https://www.pennstone.com
X-WR-CALDESC:Events for Penn Stone
REFRESH-INTERVAL;VALUE=DURATION:PT1H
X-Robots-Tag:noindex
X-PUBLISHED-TTL:PT1H
BEGIN:VTIMEZONE
TZID:America/Halifax
BEGIN:DAYLIGHT
TZOFFSETFROM:-0400
TZOFFSETTO:-0300
TZNAME:ADT
DTSTART:20180311T060000
END:DAYLIGHT
BEGIN:STANDARD
TZOFFSETFROM:-0300
TZOFFSETTO:-0400
TZNAME:AST
DTSTART:20181104T050000
END:STANDARD
BEGIN:DAYLIGHT
TZOFFSETFROM:-0400
TZOFFSETTO:-0300
TZNAME:ADT
DTSTART:20190310T060000
END:DAYLIGHT
BEGIN:STANDARD
TZOFFSETFROM:-0300
TZOFFSETTO:-0400
TZNAME:AST
DTSTART:20191103T050000
END:STANDARD
BEGIN:DAYLIGHT
TZOFFSETFROM:-0400
TZOFFSETTO:-0300
TZNAME:ADT
DTSTART:20200308T060000
END:DAYLIGHT
BEGIN:STANDARD
TZOFFSETFROM:-0300
TZOFFSETTO:-0400
TZNAME:AST
DTSTART:20201101T050000
END:STANDARD
END:VTIMEZONE
BEGIN:VEVENT
DTSTART;TZID=America/Halifax:20190124T080000
DTEND;TZID=America/Halifax:20190124T140000
DTSTAMP:20260421T050147
CREATED:20181205T120841Z
LAST-MODIFIED:20190820T135728Z
UID:2855-1548316800-1548338400@www.pennstone.com
SUMMARY:Unilock Contractor Expo
DESCRIPTION:For the second year in a row\, Unilock is hosting their Contractor Expo in Lancaster\, PA.  This year’s event will be held at the Lancaster County Convention Center & Lancaster Marriott\, and is free to attend. \nFeatured topics at Unilock’s 2019 Expo include: Bullet-Proof Base Construction; Outdoor Living Space Design/Outdoor Kitchens; How To Do More With Less Labor; 2019: New Tools and Time Savers; and How To Work With OSHA and the New Silica Dust Regulations. \nThe expo also includes a vendor faire and prize raffles. \nClick here to register.
URL:https://www.pennstone.com/event/unilock-contractor-expo/
LOCATION:Lancaster County Convention Center\, Lancaster\, PA\, 17603\, United States
CATEGORIES:Contractor Education
ATTACH;FMTTYPE=image/jpeg:https://www.pennstone.com/wp-content/uploads/2018/12/unilock-contractor-expo-lancaster-pa-web.jpg
END:VEVENT
END:VCALENDAR