BEGIN:VCALENDAR
VERSION:2.0
PRODID:-//Penn Stone - ECPv6.15.20//NONSGML v1.0//EN
CALSCALE:GREGORIAN
METHOD:PUBLISH
X-WR-CALNAME:Penn Stone
X-ORIGINAL-URL:https://www.pennstone.com
X-WR-CALDESC:Events for Penn Stone
REFRESH-INTERVAL;VALUE=DURATION:PT1H
X-Robots-Tag:noindex
X-PUBLISHED-TTL:PT1H
BEGIN:VTIMEZONE
TZID:America/New_York
BEGIN:DAYLIGHT
TZOFFSETFROM:-0500
TZOFFSETTO:-0400
TZNAME:EDT
DTSTART:20220313T070000
END:DAYLIGHT
BEGIN:STANDARD
TZOFFSETFROM:-0400
TZOFFSETTO:-0500
TZNAME:EST
DTSTART:20221106T060000
END:STANDARD
BEGIN:DAYLIGHT
TZOFFSETFROM:-0500
TZOFFSETTO:-0400
TZNAME:EDT
DTSTART:20230312T070000
END:DAYLIGHT
BEGIN:STANDARD
TZOFFSETFROM:-0400
TZOFFSETTO:-0500
TZNAME:EST
DTSTART:20231105T060000
END:STANDARD
BEGIN:DAYLIGHT
TZOFFSETFROM:-0500
TZOFFSETTO:-0400
TZNAME:EDT
DTSTART:20240310T070000
END:DAYLIGHT
BEGIN:STANDARD
TZOFFSETFROM:-0400
TZOFFSETTO:-0500
TZNAME:EST
DTSTART:20241103T060000
END:STANDARD
END:VTIMEZONE
BEGIN:VEVENT
DTSTART;TZID=America/New_York:20230124T093000
DTEND;TZID=America/New_York:20230124T110000
DTSTAMP:20260420T235149
CREATED:20230105T112804Z
LAST-MODIFIED:20230113T125540Z
UID:9158-1674552600-1674558000@www.pennstone.com
SUMMARY:Retaining Wall Installation\, presented by Unilock
DESCRIPTION:On January 24 at 9:30am Penn Stone will host Joe Olszewski from Unilock to present a seminar on Segmental Retaining Wall Installation. This presentation will discuss: \n\nUnilock’s manufacturing process\nSelecting the correct wall system for each application\nWall installation\n\nThis seminar is free to attend.
URL:https://www.pennstone.com/event/retaining-wall-installation-presented-by-unilock/
LOCATION:Penn Stone\, 190 West Ross Street\, Lancaster\, PA\, 17603\, United States
CATEGORIES:Contractor Education
ATTACH;FMTTYPE=image/jpeg:https://www.pennstone.com/wp-content/uploads/2023/01/unilock-retaining-wall-installation-seminar-2023.jpg
ORGANIZER;CN="Penn Stone":MAILTO:info@pennstone.com
GEO:40.050545;-76.31149
X-APPLE-STRUCTURED-LOCATION;VALUE=URI;X-ADDRESS=Penn Stone 190 West Ross Street Lancaster PA 17603 United States;X-APPLE-RADIUS=500;X-TITLE=190 West Ross Street:geo:-76.31149,40.050545
END:VEVENT
END:VCALENDAR