BEGIN:VCALENDAR
VERSION:2.0
PRODID:-//Penn Stone - ECPv6.15.20//NONSGML v1.0//EN
CALSCALE:GREGORIAN
METHOD:PUBLISH
X-WR-CALNAME:Penn Stone
X-ORIGINAL-URL:https://www.pennstone.com
X-WR-CALDESC:Events for Penn Stone
REFRESH-INTERVAL;VALUE=DURATION:PT1H
X-Robots-Tag:noindex
X-PUBLISHED-TTL:PT1H
BEGIN:VTIMEZONE
TZID:America/Halifax
BEGIN:DAYLIGHT
TZOFFSETFROM:-0400
TZOFFSETTO:-0300
TZNAME:ADT
DTSTART:20180311T060000
END:DAYLIGHT
BEGIN:STANDARD
TZOFFSETFROM:-0300
TZOFFSETTO:-0400
TZNAME:AST
DTSTART:20181104T050000
END:STANDARD
BEGIN:DAYLIGHT
TZOFFSETFROM:-0400
TZOFFSETTO:-0300
TZNAME:ADT
DTSTART:20190310T060000
END:DAYLIGHT
BEGIN:STANDARD
TZOFFSETFROM:-0300
TZOFFSETTO:-0400
TZNAME:AST
DTSTART:20191103T050000
END:STANDARD
BEGIN:DAYLIGHT
TZOFFSETFROM:-0400
TZOFFSETTO:-0300
TZNAME:ADT
DTSTART:20200308T060000
END:DAYLIGHT
BEGIN:STANDARD
TZOFFSETFROM:-0300
TZOFFSETTO:-0400
TZNAME:AST
DTSTART:20201101T050000
END:STANDARD
END:VTIMEZONE
BEGIN:VEVENT
DTSTART;TZID=America/Halifax:20190226T093000
DTEND;TZID=America/Halifax:20190226T110000
DTSTAMP:20260419T124732
CREATED:20181217T193631Z
LAST-MODIFIED:20190218T220456Z
UID:2958-1551173400-1551178800@www.pennstone.com
SUMMARY:Hardscaping Project Management to Maximize Profitability
DESCRIPTION:Join us at 9:30am on Tuesday\, February 26 when Joe Olszewski from Unilock presents a seminar on Hardscaping Project Management to Maximize Profitability. Discussion topics will include: \n\nOverhead cost recovery\nDiscovering jobsite efficiencies\n\nThis seminar is free to attend.  Complimentary refreshments will be provided.
URL:https://www.pennstone.com/event/hardscaping-project-management-to-maximize-profitability/
LOCATION:Penn Stone\, 190 West Ross Street\, Lancaster\, PA\, 17603\, United States
CATEGORIES:Contractor Education
ATTACH;FMTTYPE=image/jpeg:https://www.pennstone.com/wp-content/uploads/2018/12/unilock-logo.jpg
ORGANIZER;CN="Penn Stone":MAILTO:info@pennstone.com
GEO:40.050545;-76.31149
X-APPLE-STRUCTURED-LOCATION;VALUE=URI;X-ADDRESS=Penn Stone 190 West Ross Street Lancaster PA 17603 United States;X-APPLE-RADIUS=500;X-TITLE=190 West Ross Street:geo:-76.31149,40.050545
END:VEVENT
END:VCALENDAR