BEGIN:VCALENDAR
VERSION:2.0
PRODID:-//Penn Stone - ECPv6.15.20//NONSGML v1.0//EN
CALSCALE:GREGORIAN
METHOD:PUBLISH
X-WR-CALNAME:Penn Stone
X-ORIGINAL-URL:https://www.pennstone.com
X-WR-CALDESC:Events for Penn Stone
REFRESH-INTERVAL;VALUE=DURATION:PT1H
X-Robots-Tag:noindex
X-PUBLISHED-TTL:PT1H
BEGIN:VTIMEZONE
TZID:America/New_York
BEGIN:DAYLIGHT
TZOFFSETFROM:-0500
TZOFFSETTO:-0400
TZNAME:EDT
DTSTART:20220313T070000
END:DAYLIGHT
BEGIN:STANDARD
TZOFFSETFROM:-0400
TZOFFSETTO:-0500
TZNAME:EST
DTSTART:20221106T060000
END:STANDARD
BEGIN:DAYLIGHT
TZOFFSETFROM:-0500
TZOFFSETTO:-0400
TZNAME:EDT
DTSTART:20230312T070000
END:DAYLIGHT
BEGIN:STANDARD
TZOFFSETFROM:-0400
TZOFFSETTO:-0500
TZNAME:EST
DTSTART:20231105T060000
END:STANDARD
BEGIN:DAYLIGHT
TZOFFSETFROM:-0500
TZOFFSETTO:-0400
TZNAME:EDT
DTSTART:20240310T070000
END:DAYLIGHT
BEGIN:STANDARD
TZOFFSETFROM:-0400
TZOFFSETTO:-0500
TZNAME:EST
DTSTART:20241103T060000
END:STANDARD
END:VTIMEZONE
BEGIN:VEVENT
DTSTART;TZID=America/New_York:20230124T130000
DTEND;TZID=America/New_York:20230124T143000
DTSTAMP:20260421T012732
CREATED:20230113T125044Z
LAST-MODIFIED:20230113T125426Z
UID:9198-1674565200-1674570600@www.pennstone.com
SUMMARY:ASLA/AIA-accredited program: Segmental Retaining Walls
DESCRIPTION:On January 24 at 1pm\, Penn Stone will host an ASLA and AIA-accredited program\, Segmental Retaining Walls\, presented by Unilock. \nThis presentation will examine the factors needed for consideration when retaining wall is necessary. Engineering considerations will be examined in detail with regard to slopes\, surcharges\, hydrostatic pressures\, fences\, etc. Soil analysis and site considerations\, and modes of wall failure will be reviewed. \nLearning Objectives: After completion of this presentation\, designers and specifiers will be able to: \n\nDescribe the factors of safety required to be met in wall engineering.\nHave an understanding on gravity versus geo-grid reinforced walls\nCompare hand-set versus machine-set retaining wall block systems.\nUnderstand the effects of hydrostatic pressures and loading surcharges on wall structures.\nDetermine cause of wall failure and be able to make recommendations\n\nThis program qualifies for 1 Learning Unit. \nThis session is free to attend. \nThe presentation will begin at 1pm. All attendees are welcome to arrive at 12:30pm to enjoy complimentary lunch.
URL:https://www.pennstone.com/event/asla-aia-accredited-program-segmental-retaining-walls/
LOCATION:Penn Stone\, 190 West Ross Street\, Lancaster\, PA\, 17603\, United States
CATEGORIES:Architect Education
ATTACH;FMTTYPE=image/jpeg:https://www.pennstone.com/wp-content/uploads/2023/01/Unilock_U-Cara_CH_Corporate-Security-Wall_1b-event.jpg
ORGANIZER;CN="Penn Stone":MAILTO:info@pennstone.com
GEO:40.050545;-76.31149
X-APPLE-STRUCTURED-LOCATION;VALUE=URI;X-ADDRESS=Penn Stone 190 West Ross Street Lancaster PA 17603 United States;X-APPLE-RADIUS=500;X-TITLE=190 West Ross Street:geo:-76.31149,40.050545
END:VEVENT
END:VCALENDAR