BEGIN:VCALENDAR
VERSION:2.0
PRODID:-//Penn Stone - ECPv6.15.20//NONSGML v1.0//EN
CALSCALE:GREGORIAN
METHOD:PUBLISH
X-WR-CALNAME:Penn Stone
X-ORIGINAL-URL:https://www.pennstone.com
X-WR-CALDESC:Events for Penn Stone
REFRESH-INTERVAL;VALUE=DURATION:PT1H
X-Robots-Tag:noindex
X-PUBLISHED-TTL:PT1H
BEGIN:VTIMEZONE
TZID:America/Halifax
BEGIN:DAYLIGHT
TZOFFSETFROM:-0400
TZOFFSETTO:-0300
TZNAME:ADT
DTSTART:20180311T060000
END:DAYLIGHT
BEGIN:STANDARD
TZOFFSETFROM:-0300
TZOFFSETTO:-0400
TZNAME:AST
DTSTART:20181104T050000
END:STANDARD
BEGIN:DAYLIGHT
TZOFFSETFROM:-0400
TZOFFSETTO:-0300
TZNAME:ADT
DTSTART:20190310T060000
END:DAYLIGHT
BEGIN:STANDARD
TZOFFSETFROM:-0300
TZOFFSETTO:-0400
TZNAME:AST
DTSTART:20191103T050000
END:STANDARD
BEGIN:DAYLIGHT
TZOFFSETFROM:-0400
TZOFFSETTO:-0300
TZNAME:ADT
DTSTART:20200308T060000
END:DAYLIGHT
BEGIN:STANDARD
TZOFFSETFROM:-0300
TZOFFSETTO:-0400
TZNAME:AST
DTSTART:20201101T050000
END:STANDARD
END:VTIMEZONE
BEGIN:VEVENT
DTSTART;TZID=America/Halifax:20190205T093000
DTEND;TZID=America/Halifax:20190205T110000
DTSTAMP:20260421T051311
CREATED:20181217T191230Z
LAST-MODIFIED:20200723T194812Z
UID:2947-1549359000-1549364400@www.pennstone.com
SUMMARY:Advanced Landscape Lighting\, presented by CAST Lighting
DESCRIPTION:On Tuesday February 5 at 9:30am\, Jeff Hesser from CAST Lighting will present a seminar on Advanced Landscape Lighting. Jeff’s presentation will include: \nAdvanced landscape lighting design; selecting the appropriate fixture for the proposed design concept; how to build switches; explaining dimmers; building custom fixtures. \nThis seminar is free to attend. Complimentary refreshments will be provided.
URL:https://www.pennstone.com/event/advanced-landscape-lighting-presented-by-cast-lighting/
LOCATION:Penn Stone\, 190 West Ross Street\, Lancaster\, PA\, 17603\, United States
CATEGORIES:Contractor Education
ATTACH;FMTTYPE=image/jpeg:https://www.pennstone.com/wp-content/uploads/2018/12/advanced-CAST-landscape-lighting-seminar.jpg
ORGANIZER;CN="Penn Stone":MAILTO:info@pennstone.com
GEO:40.050545;-76.31149
X-APPLE-STRUCTURED-LOCATION;VALUE=URI;X-ADDRESS=Penn Stone 190 West Ross Street Lancaster PA 17603 United States;X-APPLE-RADIUS=500;X-TITLE=190 West Ross Street:geo:-76.31149,40.050545
END:VEVENT
END:VCALENDAR